Workbook
Name Import_CS: #REF!
Name Import_CS: #REF!
Name Import_CS: #REF!
Name Import_MH: #REF!
Name Import_MH: #REF!
Name Import_MH: #REF!
Name Import_MR: #REF!
Name Import_MR: #REF!
Name Import_MR: #REF!

Sheet Budget
L1: Yes | M1: MTDC
L2: No | M2: Salaries
B3: Legal Name of Organization | M3: Salaries and Fringe
B4: Mailing Address | M4: Other
B5: Contact Name & Email Address | J5: Instructions: 1. Complete the peach filled cells. 2. Organization details requested to eliminate the completion of State of Maine budget forms. 2. Personnel Costs - provide full 12-month salaries and effort. The form will convert the costs for the 9-month period. 3. Additional explanation is provided when you hover over headings with a red triangle. 4. Email lgarza@une.edu with any budget form issues by Nov 26, 2026. 5. Submit an Excel version with your application in the submission portal.
B6: Budget Period | C6: January 1, 2027 through September 30, 2027
B8: Proposed Budget Total | C8: =+H44 -> 0
B9: FY28 Initial Award Amount
B11: Totals for Organization | E11: Do you have a negotiated indirect cost rate agreement?
B12: Annual Revenues
B13: Annual Expenditures | H13: =IF(E14="Yes","NICRA Rate","")
B15: Fiscal Year End (MM/DD/YY) | E15: =IF(E14="Yes","Please submit a copy of your most recent agreement to UNE along with your budget","")
B17: Fringe Benefit Breakdown | E17: =IF(E14="Yes","Indicate your IDC base from the dropdown list","")
B18: Fica/Medicare Tax
B19: Unemployment Insurance
B20: Worker's Compensation | E20: =IF(E19="Other","Email lgarza@une.edu with your indirect cost base information by Nov 26, 2026 so the indirect costs formula in the budget can be modified.","")
B21: Health/Dental
B22: Pension
B23: Other | D23: =IF(C23<=0,"","Please describe Other here")
B24: Total Fringe Benefit Rate | C24: =SUM(C18:C23) -> 0
B25: Budget Form - Proposed Costs
B26: Personnel Costs: Name | C26: Position | D26: Annual Salary | E26: FTE | F26: Requested Salaries | G26: Fringe Benefit Costs | H26: Total
F28: =+ROUND((D28*E28)/12*9,0) -> 0 | G28: =+ROUND(F28*$C$24,0) -> 0 | H28: =+F28+G28 -> 0
F29: =+ROUND((D29*E29)/12*9,0) -> 0 | G29: =+ROUND(F29*$C$24,0) -> 0 | H29: =+F29+G29 -> 0
F30: =+ROUND((D30*E30)/12*9,0) -> 0 | G30: =+ROUND(F30*$C$24,0) -> 0 | H30: =+F30+G30 -> 0
F31: =+ROUND((D31*E31)/12*9,0) -> 0 | G31: =+ROUND(F31*$C$24,0) -> 0 | H31: =+F31+G31 -> 0
B32: Total Personnel Costs | H32: =SUM(H28:H31) -> 0
B34: Other Costs:
B35: Project Supplies
B36: Travel | C36: =+IF(H36="",""," Provide details here")
C37: =+IF(H37="",""," Provide details here")
C38: =+IF(H38="",""," Provide details here")
C39: =+IF(H39="",""," Provide details here")
C40: =+IF(H40="",""," Provide details here") | K40: =+IF(H14>0,H14,".15") -> .15
B41: Total Other Costs | H41: =SUM(H35:H40) -> 0 | J41: =+H32+H41 -> 0 | K41: MTDC
J42: =+SUM(F28:F31) -> 0 | K42: Salaries
B43: Indirect Costs | C43: =+IF(E14="No","De minimis rate - 15% MTDC","") | H43: =IF(E14="No",J41*K40,IF(E19="MTDC",J41*K40,IF(E19="Salaries",J42*K40,IF(E19="Salaries and Fringe",J43*K40,0)))) -> 0 | J43: =+H32 -> 0 | K43: Salaries/Fringe
B44: Total Proposed Costs | H44: =+H32+H41+H43 -> 0

Sheet FORM 1 REVENUE SUMMARY
A1: Maine Department of Health and Human Services | C1: AGENCY NAME: | D1: =+"Sub recipient - "&Budget!C3 -> Sub recipient -
C2: PROGRAM NAME: | D2: Rural Health Transformation Program - Population Health
C3: AGREEMENT START DATE: | D3: 46296
C4: AGREEMENT END DATE: | D4: 46660
C5: DHHS AGREEMENT#: | D5: COM-27-0826
A6: REVENUE SUMMARY
A7: LINE | B7: COLUMN 1 | C7: COLUMN 2 | D7: COLUMN 3 | E7: COLUMN 4 | F7: COLUMN 5 | G7: COLUMN 6 | H7: COLUMN 7
A8: 1 | B8: REVENUE SOURCES | C8: TOTAL PROGRAMS | D8: Community Health Worker Expansion & Support | E8: Community Health Worker Expansion & Support | F8: SERVICE: | G8: SERVICE: | H8: SERVICE:
A9: 2 | C9: (this agreement) | D9: RHTP- CHW YR1 7/1/2026 - 6/30/2027 | E9: RHTP- CHW YR2 7/1/2027 - 9/30/2027 | F9: PROGRAM & FY: | G9: PROGRAM & FY: | H9: PROGRAM & FY:
A10: 3 | B10: TO BE COST SHARED List by Donor or Source (Add rows as needed)*
A11: 4 | B11: AGREEMENT FEDERAL REVENUE
A12: 5 | B12: FEDERAL DHHS AGREEMENT FUNDS | C12: =SUM(D12:H12) -> 0 | D12: =+'CS RIDER F-1 ASF FY27'!E34 -> 0 | E12: =+'CS RIDER F-1 ASF FY28'!E18 -> 0
A13: 6 | B13: FEDERAL BLOCK GRANT AGREEMENT FUNDS | C13: =SUM(D13:H13) -> 0
A14: 7
A15: 8 | B15: AGREEMENT STATE REVENUE
A16: 9 | B16: STATE DHHS AGREEMENT FUNDS-GF | C16: =SUM(D16:H16) -> 0
A17: 10 | B17: STATE DHHS AGREEMENT FUNDS-FHM | C17: =SUM(D17:H17) -> 0
A18: 11 | B18: STATE DHHS AGREEMENT FUNDS-OTHER | C18: =SUM(D18:H18) -> 0 | E18: 0
A19: 12 | B19: RESTRICTED UNITED WAY | C19: =SUM(D19:H19) -> 0
A20: 13 | B20: RESTRICTED MUNICIPAL/COUNTY | C20: =SUM(D20:H20) -> 0
A21: 14 | B21: OTHER RESTRICTED INCOME (PROGRAM) | C21: =SUM(D21:H21) -> 0
A22: 15 | C22: =SUM(D22:H22) -> 0
A23: 16 | B23: PRIVATE CLIENT FEES (insurance + self pay) | C23: =SUM(D23:H23) -> 0
A24: 17 | B24: MEDICARE | C24: =SUM(D24:H24) -> 0
A25: 18 | B25: AGENCY COMMITMENT TO PROGRAM | C25: =SUM(D25:H25) -> 0 | D25: 0
A26: 19 | C26: =SUM(D26:H26) -> 0
A27: 20 | B27: TOTAL COST SHARED REVENUE | C27: =IF((SUM(C12:C26))=(SUM(D27:H27)),SUM(D27:H27),"Rows & Columns Not Equal") -> 0 | D27: =SUM(D12:D26) -> 0 | E27: =SUM(E12:E26) -> 0 | F27: =SUM(F12:F26) -> 0 | G27: =SUM(G12:G26) -> 0 | H27: =SUM(H12:H26) -> 0
A29: 21 | B29: NON COST SHARED (Add rows as needed)*
A30: 22 | B30: MAINECARE | C30: =SUM(D30:H30) -> 0
A31: 23 | B31: OTHER RESTRICTED FEDERAL/STATE | C31: =SUM(D31:H31) -> 0
A32: 24 | B32: THIRD PARTY IN-KIND | C32: =SUM(D32:H32) -> 0 | F32: 0
A33: 25 | B33: PROGRAM CLIENT FEES | C33: =SUM(D33:H33) -> 0
A34: 26 | B34: PROGRAM INCOME | C34: =SUM(D34:H34) -> 0
A35: 27 | C35: =SUM(D35:H35) -> 0
A36: 28 | C36: =SUM(D36:H36) -> 0
A37: 29 | B37: RESTRICTED REVENUE (PURPOSE)
A38: 30 | C38: =SUM(D38:H38) -> 0 | H38: 0
A39: 31 | C39: =SUM(D39:H39) -> 0 | D39: 0 | E39: 0
A40: 32 | C40: =SUM(D40:H40) -> 0
A41: 33 | B41: TOTAL NON COST SHARED REVENUE | C41: =IF((SUM(C30:C40))=(SUM(D41:H41)),SUM(D41:H41),"Rows & Columns Not Equal") -> 0 | D41: =SUM(D30:D40) -> 0 | E41: =SUM(E30:E40) -> 0 | F41: =SUM(F30:F40) -> 0 | G41: =SUM(G30:G40) -> 0 | H41: =SUM(H30:H40) -> 0
...

Sheet FORM 2 EXPENSE SUMMARY
A1: Maine Department of Health and Human Services | C1: AGENCY NAME: | D1: =+'FORM 1 REVENUE SUMMARY'!D1 -> Sub recipient -
C2: PROGRAM NAME: | D2: =+'FORM 1 REVENUE SUMMARY'!D2 -> Rural Health Transformation Program - Population Health
C3: AGREEMENT START DATE: | D3: =+'FORM 1 REVENUE SUMMARY'!D3 -> 46296
C4: AGREEMENT END DATE: | D4: =+'FORM 1 REVENUE SUMMARY'!D4 -> 46660
C5: DHHS AGREEMENT#: | D5: =+'FORM 1 REVENUE SUMMARY'!D5 -> COM-27-0826
A6: EXPENSE SUMMARY
A7: LINE | B7: COLUMN 1 | C7: COLUMN 2 | D7: COLUMN 3 | E7: COLUMN 4 | F7: COLUMN 5 | G7: COLUMN 6 | H7: COLUMN 7
A8: 1 | B8: EXPENSES | C8: TOTAL PROGRAMS | D8: ='FORM 1 REVENUE SUMMARY'!D8 -> Community Health Worker Expansion & Support | E8: ='FORM 1 REVENUE SUMMARY'!E8 -> Community Health Worker Expansion & Support | F8: ='FORM 1 REVENUE SUMMARY'!F8 -> SERVICE: | G8: ='FORM 1 REVENUE SUMMARY'!G8 -> SERVICE: | H8: ='FORM 1 REVENUE SUMMARY'!H8 -> SERVICE:
A9: 2 | C9: (this agreement) | D9: ='FORM 1 REVENUE SUMMARY'!D9 -> RHTP- CHW YR1 7/1/2026 - 6/30/2027 | E9: ='FORM 1 REVENUE SUMMARY'!E9 -> RHTP- CHW YR2 7/1/2027 - 9/30/2027 | F9: ='FORM 1 REVENUE SUMMARY'!F9 -> PROGRAM & FY: | G9: ='FORM 1 REVENUE SUMMARY'!G9 -> PROGRAM & FY: | H9: ='FORM 1 REVENUE SUMMARY'!H9 -> PROGRAM & FY:
A10: 3 | B10: PERSONNEL EXPENSES
A11: 4 | B11: SALARIES/WAGES | C11: =SUM(D11:H11) -> 0 | D11: =+'FORM 3 PERSONNEL FY27'!F37 -> 0 | E11: =' FORM 3 PERSONNEL FY28'!F37 -> 0
A12: 5 | B12: FRINGE BENEFITS | C12: =SUM(D12:H12) -> 0 | D12: =+'FORM 3 PERSONNEL FY27'!F38 -> 0 | E12: =' FORM 3 PERSONNEL FY28'!F38 -> 0 | F12: 0
A13: 6 | B13: THIRD PARTY IN-KIND (Match Only) | C13: =SUM(D13:H13) -> 0
A14: 7 | B14: TOTAL PERSONNEL EXPENSES | C14: =IF((SUM(C11:C13))=(SUM(D14:H14)),SUM(D14:H14),"Rows & Columns Not Equal") -> 0 | D14: =SUM(D11:D13) -> 0 | E14: =SUM(E11:E13) -> 0 | F14: =SUM(F11:F13) -> 0 | G14: =SUM(G11:G13) -> 0 | H14: =SUM(H11:H13) -> 0
A16: 8 | B16: CAPITAL EQUIPMENT PURCHASES
A18: 9 | B18: SUB-RECIPIENT AWARDS | C18: =SUM(D18:H18) -> 0 | G18: 0
A20: 10 | B20: ALL OTHER EXPENSES
A21: 11 | B21: OCCUPANCY - DEPRECIATION | C21: =SUM(D21:H21) -> 0 | D21: ='FORM 5 EXPENSE DETAILS FY27'!D15 -> 0 | E21: ='FORM 5 EXPENSE DETAILS FY28'!D15 -> 0
A22: 12 | B22: OCCUPANCY - INTEREST | C22: =SUM(D22:H22) -> 0 | D22: ='FORM 5 EXPENSE DETAILS FY27'!D17 -> 0 | E22: ='FORM 5 EXPENSE DETAILS FY28'!D17 -> 0
A23: 13 | B23: OCCUPANCY - RENT | C23: =SUM(D23:H23) -> 0 | D23: ='FORM 5 EXPENSE DETAILS FY27'!D19 -> 0 | E23: ='FORM 5 EXPENSE DETAILS FY28'!D19 -> 0
A24: 14 | B24: UTILITIES/HEAT | C24: =SUM(D24:H24) -> 0 | D24: ='FORM 5 EXPENSE DETAILS FY27'!D21 -> 0 | E24: ='FORM 5 EXPENSE DETAILS FY28'!D21 -> 0
A25: 15 | B25: TELEPHONE | C25: =SUM(D25:H25) -> 0 | D25: ='FORM 5 EXPENSE DETAILS FY27'!D23 -> 0 | E25: ='FORM 5 EXPENSE DETAILS FY28'!D23 -> 0
A26: 16 | B26: MAINTENANCE/MINOR REPAIRS | C26: =SUM(D26:H26) -> 0 | D26: ='FORM 5 EXPENSE DETAILS FY27'!D25 -> 0 | E26: ='FORM 5 EXPENSE DETAILS FY28'!D25 -> 0
A27: 17 | B27: BONDING/INSURANCE | C27: =SUM(D27:H27) -> 0 | D27: ='FORM 5 EXPENSE DETAILS FY27'!D27 -> 0 | E27: ='FORM 5 EXPENSE DETAILS FY28'!D27 -> 0
A28: 18 | B28: EQUIPMENT RENTAL/LEASE | C28: =SUM(D28:H28) -> 0 | D28: ='FORM 5 EXPENSE DETAILS FY27'!D29 -> 0 | E28: ='FORM 5 EXPENSE DETAILS FY28'!D29 -> 0
A29: 19 | B29: MATERIALS/SUPPLIES | C29: =SUM(D29:H29) -> 0 | D29: ='FORM 5 EXPENSE DETAILS FY27'!D31 -> 0 | E29: ='FORM 5 EXPENSE DETAILS FY28'!D31 -> 0
A30: 20 | B30: DEPRECIATION (Non-Occupancy) | C30: =SUM(D30:H30) -> 0 | D30: ='FORM 5 EXPENSE DETAILS FY27'!D33 -> 0 | E30: ='FORM 5 EXPENSE DETAILS FY28'!D33 -> 0
A31: 21 | B31: FOOD | C31: =SUM(D31:H31) -> 0 | D31: ='FORM 5 EXPENSE DETAILS FY27'!D35 -> 0 | E31: ='FORM 5 EXPENSE DETAILS FY28'!D35 -> 0
A32: 22 | B32: CLIENT-RELATED TRAVEL | C32: =SUM(D32:H32) -> 0 | D32: ='FORM 5 EXPENSE DETAILS FY27'!D37 -> 0 | E32: ='FORM 5 EXPENSE DETAILS FY28'!D37 -> 0
A33: 23 | B33: OTHER TRAVEL | C33: =SUM(D33:H33) -> 0 | D33: ='FORM 5 EXPENSE DETAILS FY27'!D39 -> 0 | E33: ='FORM 5 EXPENSE DETAILS FY28'!D39 -> 0
A34: 24 | B34: CONSULTANTS - DIRECT SERVICE | C34: =SUM(D34:H34) -> 0 | D34: ='FORM 3 PERSONNEL FY27'!G51 -> 0 | E34: =' FORM 3 PERSONNEL FY28'!G51 -> 0
A35: 25 | B35: CONSULTANTS - OTHER | C35: =SUM(D35:H35) -> 0 | D35: ='FORM 5 EXPENSE DETAILS FY27'!D41 -> 0 | E35: ='FORM 5 EXPENSE DETAILS FY28'!D41 -> 0
A36: 26 | B36: INDEPENDENT PUBLIC ACCOUNTANTS | C36: =SUM(D36:H36) -> 0 | D36: ='FORM 5 EXPENSE DETAILS FY27'!D43 -> 0 | E36: ='FORM 5 EXPENSE DETAILS FY28'!D43 -> 0
A37: 27 | B37: TECHNOLOGY SERVICES/SOFTWARE | C37: =SUM(D37:H37) -> 0 | D37: ='FORM 5 EXPENSE DETAILS FY27'!D45 -> 0 | E37: ='FORM 5 EXPENSE DETAILS FY28'!D45 -> 0
A38: 28 | B38: THIRD PARTY IN-KIND (Match Only) | C38: =SUM(D38:H38) -> 0
A39: 29 | B39: TRAINING/EDUCATION | C39: =SUM(D39:H39) -> 0 | D39: ='FORM 5 EXPENSE DETAILS FY27'!D47 -> 0 | E39: ='FORM 5 EXPENSE DETAILS FY28'!D47 -> 0
A40: 30 | B40: MISCELLANEOUS | C40: =SUM(D40:H40) -> 0 | D40: ='FORM 5 EXPENSE DETAILS FY27'!D49 -> 0 | E40: ='FORM 5 EXPENSE DETAILS FY28'!D49 -> 0
A41: 31 | B41: SUBTOTAL - ALL OTHER EXPENSES | C41: =IF((SUM(C21:C40))=(SUM(D41:H41)),SUM(D41:H41),"Rows & Columns Not Equal") -> 0 | D41: =SUM(D21:D40) -> 0 | E41: =SUM(E21:E40) -> 0 | F41: =SUM(F21:F40) -> 0 | G41: =SUM(G21:G40) -> 0 | H41: =SUM(H21:H40) -> 0
A43: 32 | B43: INDIRECT ALLOCATED - G&A (Line 36 x Line 37) | C43: =+D43+E43 -> 0 | D43: =ROUND(SUM(D50*D51),0) -> 0 | E43: =ROUND(SUM(E50*E51),0) -> 0 | F43: =SUM(F50*F51) -> 0 | G43: =SUM(G50*G51) -> 0 | H43: =SUM(H50*H51) -> 0
A44: 33 | B44: TOTAL ALL OTHER EXPENSES (Lines 31, 32 ) | C44: =IF((SUM(C41,C43))=(SUM(D44:H44)),SUM(D44:H44),"Rows & Columns Not Equal") -> 0 | D44: =SUM(D41,D43) -> 0 | E44: =SUM(E41,E43) -> 0 | F44: =SUM(F41,F43) -> 0 | G44: =SUM(G41,G43) -> 0 | H44: =SUM(H41,H43) -> 0
...

Sheet FORM 3 PERSONNEL FY27
A1: Maine Department of Health and Human Services | D1: AGENCY NAME: | E1: ='FORM 1 REVENUE SUMMARY'!D1 -> Sub recipient -
D2: PROGRAM NAME: | E2: ='FORM 1 REVENUE SUMMARY'!D2 -> Rural Health Transformation Program - Population Health
D3: AGREEMENT START DATE: | E3: =+'CS RIDER F-1 ASF FY27'!C11 -> 46296
D4: AGREEMENT END DATE: | E4: =+'CS RIDER F-1 ASF FY27'!C12 -> 46660
D5: DHHS AGREEMENT#: | E5: ='FORM 1 REVENUE SUMMARY'!D5 -> COM-27-0826
D6: PROGRAM NAME: | E6: ='FORM 1 REVENUE SUMMARY'!D9 -> RHTP- CHW YR1 7/1/2026 - 6/30/2027
A7: DIRECT PERSONNEL EXPENSES
A8: LINE | B8: COLUMN 1 | D8: COLUMN 2 | E8: COLUMN 3 | F8: COLUMN 4 | G8: COLUMN 5
B9: PERSONNEL EXPENSES
B10: POSITION TITLE | D10: CREDENTIAL (eg. MHRT II, LCSW) | E10: TOTAL ANNUAL SALARY | F10: TOTAL # HOURS SPENT ON PROGRAM FOR AGREEMENT PERIOD | G10: TOTAL DIRECT PROGRAM SALARY FOR AGREEMENT PERIOD
A11: 1 | B11: DIRECT CARE/CLINICAL STAFF
A12: 2 | B12: =+Budget!C28&", "&Budget!B28 -> , | E12: =+Budget!D28 -> 0 | F12: =2080*Budget!E28/12*9 -> 0 | G12: =+ROUND(E12/2080*F12,0) -> 0
A13: 3 | B13: =+Budget!C29&", "&Budget!B29 -> , | E13: =+Budget!D29 -> 0 | F13: =2080*Budget!E29/12*9 -> 0 | G13: =+ROUND(E13/2080*F13,0) -> 0
A14: 4 | B14: =+Budget!C30&", "&Budget!B30 -> , | E14: =+Budget!D30 -> 0 | F14: =2080*Budget!E30/12*9 -> 0 | G14: =+ROUND(E14/2080*F14,0) -> 0
A15: 5 | B15: =+Budget!C31&", "&Budget!B31 -> , | E15: =+Budget!D31 -> 0 | F15: =2080*Budget!E31/12*9 -> 0 | G15: =+ROUND(E15/2080*F15,0) -> 0
A16: 6
A17: 7
A18: 8 | K18: =+J18-I18 -> 0
A19: 9
A20: 10
A21: 11
A22: 12
A23: 13 | K23: =+I23-J23 -> 0
A24: 14 | B24: TOTAL FTE | C24: =F24/C32 -> 0 | F24: =SUM(F12:F23) -> 0 | G24: =SUM(G12:G23) -> 0
A26: 15 | B26: ADMINISTRATIVE STAFF (Non Indirect Allocated)
A27: 16 | G27: =ROUND((E27/$C$32)*F27,0) -> 0
A28: 17 | G28: =ROUND((E28/$C$32)*F28,0) -> 0
A29: 18 | G29: =ROUND((E29/$C$32)*F29,0) -> 0
A30: 19 | G30: =ROUND((E30/$C$32)*F30,0) -> 0
A31: 20 | B31: TOTAL FTE | C31: =F31/C32 -> 0 | F31: =SUM(F27:F30) -> 0 | G31: =SUM(G27:G30) -> 0
A32: 21 | B32: Equivalent Full-time Hours | C32: 2080 | E32: TOTALS | F32: =SUM(F24,F31) -> 0 | G32: =SUM(G24,G31) -> 0
B34: COLUMN 7 | E34: COLUMN 8
B35: TOTAL FRINGE BENEFITS | E35: SUMMARY
A36: 22 | B36: TYPE OF BENEFIT (SPECIFY) | C36: DIRECT EXPENSE | D36: % SALARY | E36: ITEM | F36: DIRECT
A37: 23 | B37: FICA & MEDICARE TAX | C37: =ROUND($F$37*D37,0) -> 0 | D37: =+Budget!C18 -> 0 | E37: TOTAL SALARY | F37: =SUM(G32) -> 0
A38: 24 | B38: UNEMPLOYMENT INSURANCE | C38: =ROUND($F$37*D38,0) -> 0 | D38: =+Budget!C19 -> 0 | E38: TOTAL FRINGE | F38: =SUM(C43) -> 0
A39: 25 | B39: WORKERS' COMPENSATION | C39: =ROUND($F$37*D39,0) -> 0 | D39: =+Budget!C20 -> 0 | E39: TOTAL | F39: =SUM(F37:F38) -> 0
A40: 26 | B40: HEALTH/DENTAL | C40: =ROUND($F$37*D40,0) -> 0 | D40: =+Budget!C21 -> 0 | E40: REMARKS:
A41: 27 | B41: PENSION | C41: =ROUND($F$37*D41,0) -> 0 | D41: =+Budget!C22 -> 0 | E41: =+Budget!D23
A42: 28 | B42: OTHER | C42: =ROUND($F$37*D42,0) -> 0 | D42: =+Budget!C23 -> 0
...

Sheet FORM 4A INDIRECT EXPENSE 
A1: Maine Department of Health and Human Services | C1: AGENCY NAME: | D1: ='FORM 1 REVENUE SUMMARY'!D1 -> Sub recipient -
C2: PROGRAM NAME: | D2: ='FORM 1 REVENUE SUMMARY'!D2 -> Rural Health Transformation Program - Population Health
C3: AGREEMENT START DATE: | D3: ='FORM 1 REVENUE SUMMARY'!D3 -> 46296
C4: AGREEMENT END DATE: | D4: ='FORM 1 REVENUE SUMMARY'!D4 -> 46660
C5: DHHS AGREEMENT#: | D5: ='FORM 1 REVENUE SUMMARY'!D5 -> COM-27-0826
A6: AGENCY WIDE INDIRECT EXPENSE SUMMARY
A7: LINE | B7: COLUMN 1 | C7: COLUMN 2 | D7: MULTIPLE ALLOCATION METHOD/DIRECT ALLOCATION
B8: INDIRECT EXPENSES | C8: AGENCY TOTAL | D8: COST POOL | E8: COST POOL | F8: COST POOL | G8: COST POOL | H8: COST POOL
A9: 1 | D9: ADMIN | E9: FACILITIES | F9: NAME? | G9: NAME? | H9: NAME?
A10: 2 | B10: INDIRECT PERSONNEL EXPENSES
A11: 3 | B11: SALARIES/WAGES (Form 4B, Line 26) | C11: =SUM(D11:H11) -> 0 | D11: ='FORM 4B INDIRECT PERSONNEL EXP'!D34 -> 0 | E11: ='FORM 4B INDIRECT PERSONNEL EXP'!E34 -> 0 | F11: ='FORM 4B INDIRECT PERSONNEL EXP'!F34 -> 0 | G11: ='FORM 4B INDIRECT PERSONNEL EXP'!G34 -> 0 | H11: ='FORM 4B INDIRECT PERSONNEL EXP'!H34 -> 0
A12: 4 | B12: FRINGE BENEFITS | C12: =SUM(D12:H12) -> 0
A13: 5 | B13: TOTAL INDIRECT PERSONNEL EXPENSES | C13: =IF((SUM(C11:C12))=(SUM(D13:H13)),SUM(D13:H13),"Rows & Columns Not Equal") -> 0 | D13: =SUM(D11:D12) -> 0 | E13: =SUM(E11:E12) -> 0 | F13: =SUM(F11:F12) -> 0 | G13: =SUM(G11:G12) -> 0 | H13: =SUM(H11:H12) -> 0
A15: 6 | B15: INDIRECT OTHER EXPENSES
A16: 7 | B16: OCCUPANCY - DEPRECIATION | C16: =SUM(D16:H16) -> 0
A17: 8 | B17: OCCUPANCY - INTEREST | C17: =SUM(D17:H17) -> 0
A18: 9 | B18: OCCUPANCY - RENT | C18: =SUM(D18:H18) -> 0
A19: 10 | B19: UTILITIES/HEAT | C19: =SUM(D19:H19) -> 0
A20: 11 | B20: TELEPHONE | C20: =SUM(D20:H20) -> 0
A21: 12 | B21: MAINTENANCE/MINOR REPAIRS | C21: =SUM(D21:H21) -> 0
A22: 13 | B22: BONDING/INSURANCE | C22: =SUM(D22:H22) -> 0
A23: 14 | B23: EQUIPMENT RENTAL/LEASE | C23: =SUM(D23:H23) -> 0
A24: 15 | B24: MATERIALS/SUPPLIES | C24: =SUM(D24:H24) -> 0
A25: 16 | B25: DEPRECIATION (Non-occupancy) | C25: =SUM(D25:H25) -> 0
A26: 17 | B26: FOOD | C26: =SUM(D26:H26) -> 0
A27: 18 | B27: CLIENT-RELATED TRAVEL | C27: =SUM(D27:H27) -> 0
... A33: 24 | B33: MISCELLANEOUS | C33: =SUM(D33:H33) -> 0
A34: 25 | B34: TOTAL INDIRECT OTHER EXPENSES | C34: =IF((SUM(C16:C33))=(SUM(D34:H34)),SUM(D34:H34),"Rows & Columns Not Equal") -> 0 | D34: =SUM(D16:D33) -> 0 | E34: =SUM(E16:E33) -> 0 | F34: =SUM(F16:F33) -> 0 | G34: =SUM(G16:G33) -> 0 | H34: =SUM(H16:H33) -> 0
A36: 26 | B36: TOTAL INDIRECT EXPENSES | C36: =SUM(C13,C34) -> 0 | D36: =SUM(D13,D34) -> 0 | E36: =SUM(E13,E34) -> 0 | F36: =SUM(F13,F34) -> 0 | G36: =SUM(G13,G34) -> 0 | H36: =SUM(H13,H34) -> 0

Sheet  FORM 3 PERSONNEL FY28
A1: Maine Department of Health and Human Services | D1: AGENCY NAME: | E1: ='FORM 1 REVENUE SUMMARY'!D1 -> Sub recipient -
D2: PROGRAM NAME: | E2: ='FORM 1 REVENUE SUMMARY'!D2 -> Rural Health Transformation Program - Population Health
D3: AGREEMENT START DATE: | E3: =+'CS RIDER F-1 ASF FY28'!C11 -> 46661
D4: AGREEMENT END DATE: | E4: =+'CS RIDER F-1 ASF FY28'!C12 -> 46660
D5: DHHS AGREEMENT#: | E5: ='FORM 1 REVENUE SUMMARY'!D5 -> COM-27-0826
D6: PROGRAM NAME: | E6: ='FORM 1 REVENUE SUMMARY'!E9 -> RHTP- CHW YR2 7/1/2027 - 9/30/2027
A7: DIRECT PERSONNEL EXPENSES
A8: LINE | B8: COLUMN 1 | D8: COLUMN 2 | E8: COLUMN 3 | F8: COLUMN 4 | G8: COLUMN 5
B9: PERSONNEL EXPENSES
B10: POSITION TITLE | D10: CREDENTIAL (eg. MHRT II, LCSW) | E10: TOTAL ANNUAL SALARY | F10: TOTAL # HOURS SPENT ON PROGRAM FOR AGREEMENT PERIOD | G10: TOTAL DIRECT PROGRAM SALARY FOR AGREEMENT PERIOD
A11: 1 | B11: DIRECT CARE/CLINICAL STAFF
A12: 2 | G12: =ROUND((E12/$C$32)*F12,0) -> 0
A13: 3 | G13: =ROUND((E13/$C$32)*F13,0) -> 0
A14: 4 | G14: =ROUND((E14/$C$32)*F14,0) -> 0
A15: 5 | G15: =ROUND((E15/$C$32)*F15,0) -> 0
A16: 6 | G16: =ROUND((E16/$C$32)*F16,0) -> 0
A17: 7 | G17: =ROUND((E17/$C$32)*F17,0) -> 0
A18: 8 | G18: =ROUND((E18/$C$32)*F18,0) -> 0
A19: 9 | G19: =ROUND((E19/$C$32)*F19,0) -> 0
A20: 10 | G20: =ROUND((E20/$C$32)*F20,0) -> 0
A21: 11 | G21: =ROUND((E21/$C$32)*F21,0) -> 0
A22: 12 | G22: =ROUND((E22/$C$32)*F22,0) -> 0
A23: 13 | G23: =ROUND((E23/$C$32)*F23,0) -> 0
A24: 14 | B24: TOTAL FTE | C24: =F24/C32 -> 0 | F24: =SUM(F12:F23) -> 0 | G24: =SUM(G12:G23) -> 0
A26: 15 | B26: ADMINISTRATIVE STAFF (Non Indirect Allocated)
A27: 16 | G27: =ROUND((E27/$C$32)*F27,0) -> 0
A28: 17 | G28: =ROUND((E28/$C$32)*F28,0) -> 0
A29: 18 | G29: =ROUND((E29/$C$32)*F29,0) -> 0
A30: 19 | G30: =ROUND((E30/$C$32)*F30,0) -> 0
A31: 20 | B31: TOTAL FTE | C31: =F31/C32 -> 0 | F31: =SUM(F27:F30) -> 0 | G31: =SUM(G27:G30) -> 0
A32: 21 | B32: Equivalent Full-time Hours | C32: 2080 | E32: TOTALS | F32: =SUM(F24,F31) -> 0 | G32: =SUM(G24,G31) -> 0
B34: COLUMN 7 | E34: COLUMN 8
B35: TOTAL FRINGE BENEFITS | E35: SUMMARY
A36: 22 | B36: TYPE OF BENEFIT (SPECIFY) | C36: DIRECT EXPENSE | D36: % SALARY | E36: ITEM | F36: DIRECT
A37: 23 | B37: FICA & MEDICARE TAX | C37: =ROUND(D37*$F$37,0) -> 0 | D37: =+Budget!C18 -> 0 | E37: TOTAL SALARY | F37: =SUM(G32) -> 0
A38: 24 | B38: UNEMPLOYMENT INSURANCE | C38: =ROUND(D38*$F$37,0) -> 0 | D38: =+'FORM 3 PERSONNEL FY27'!D38 -> 0 | E38: TOTAL FRINGE | F38: =SUM(C43) -> 0
A39: 25 | B39: WORKERS' COMPENSATION | C39: =ROUND(D39*$F$37,0) -> 0 | D39: =+'FORM 3 PERSONNEL FY27'!D39 -> 0 | E39: TOTAL | F39: =SUM(F37:F38) -> 0
A40: 26 | B40: HEALTH/DENTAL | C40: =ROUND(D40*$F$37,0) -> 0 | D40: =+'FORM 3 PERSONNEL FY27'!D40 -> 0 | E40: REMARKS:
A41: 27 | B41: PENSION | C41: =ROUND(D41*$F$37,0) -> 0 | D41: =+'FORM 3 PERSONNEL FY27'!D41 -> 0 | E41: =+'FORM 3 PERSONNEL FY27'!E41
A42: 28 | B42: OTHER | C42: =ROUND(D42*$F$37,0) -> 0 | D42: =+'FORM 3 PERSONNEL FY27'!D42 -> 0
...

Sheet FORM 4 INDIRECT ALLOCATED FY27
A1: Maine Department of Health and Human Services | C1: AGENCY NAME: | F1: ='FORM 1 REVENUE SUMMARY'!D1 -> Sub recipient -
C2: PROGRAM NAME: | F2: ='FORM 1 REVENUE SUMMARY'!D2 -> Rural Health Transformation Program - Population Health
C3: AGREEMENT START DATE: | F3: =+'FORM 3 PERSONNEL FY27'!E3 -> 46296
C4: AGREEMENT END DATE: | F4: =+'FORM 3 PERSONNEL FY27'!E4 -> 46660
C5: DHHS AGREEMENT#: | F5: ='FORM 1 REVENUE SUMMARY'!D5 -> COM-27-0826
A6: INDIRECT ALLOCATION (G&A) SUMMARY
B7: Non-profit organizations with one major function where all costs are charged to one fund/agreement typically do not have indirect costs. All costs, be they administrative or program, are charged to one agreement. Non-profit organizations with one major function that also have fundraising expenses must segregate general and administrative costs (indirect) to both program and fundraising expenses and must establish an indirect cost pool. The simplified allocation method is recommended for these agencies (See OMB A-122, Attachment A, D. 2. Simplified allocation method).
F8: Yes | H8: No
A10: 1 | B10: Does your agency have indirect costs? | F10: X
B12: If NO, disregard the remainder of this Form and Forms 4A & 4B. If YES, proceed below:
A14: 2 | B14: Does your agency have an approved indirect cost rate? | F14: {=+IF(Budget!E14:F14="Yes","X","")} | H14: {=+IF(Budget!E14:F14="no","X","")}
B16: If NO, proceed below. If YES, enter rate here. INCLUDE RATE LETTER | F16: =+Budget!H14 -> 0
A18: 3 | B18: In general, there are three methods of allocating indirect costs: The simplified allocation method, the multiple allocation method, or the direct allocation method.
B19: (See OMB A-122, Attachment A, D. Allocation of Indirect Costs and Determination of Indirect Cost Rates for guidance).
B21: What method of allocation does your agency use to spread its indirect costs?
B23: a. | C23: Simplified Allocation Method | F23: X | I23: (Circular A-122, D, 2)
B24: b. | C24: Multiple Allocation Method | I24: (Circular A-122, D, 3)
B25: c. | C25: Direct Allocation Method | I25: (Circular A-122, D, 4)
B26: d. | C26: Other
A28: 4 | B28: Indicate your agency's distribution base and provide the amount:
F29: √ | I29: Distribution Base
B30: a. | C30: Total Salaries | F30: =IF(Budget!E19="Salaries","X","") | I30: =+IF(Budget!E19="Salaries",Budget!J42,0) -> 0
B31: b. | C31: Modified Total Direct Costs | F31: =IF(Budget!E19="MTDC","X",IF(Budget!E14="No","X","")) | I31: =+IF(Budget!E19="MTDC",Budget!J41,IF(Budget!E14="No",Budget!J41,0)) -> 0
B32: c. | C32: Other | D32: Salaries and Fringe | F32: =IF(Budget!E19="Salaries and Fringe","X","") | I32: =+IF(Budget!E19="Salaries and Fringe",Budget!J43,0) -> 0
A34: 5 | B34: Total Agency-Wide Indirect Costs - Budget Form 4A, Line 26
A36: 6 | B36: Agency Indirect Cost Rate (Line 5 divided by Line 4) | F36: =+IF(H14="X","15.00%","0") -> 0 | I36: =+IF(H14="X","De minimis Rate",0) -> 0
B38: Multiply the Indirect Cost Rate in Box 6, which links to Budget Form 2, Line 38, by the allocation base on Budget Form 2, Line 37 to calculate the Indirect Allocated G& A on Budget Form 2, Line 33.

Sheet FORM 4 INDIRECT ALLOCATED FY28
A1: Maine Department of Health and Human Services | C1: AGENCY NAME: | F1: ='FORM 1 REVENUE SUMMARY'!D1 -> Sub recipient -
C2: PROGRAM NAME: | F2: ='FORM 1 REVENUE SUMMARY'!D2 -> Rural Health Transformation Program - Population Health
C3: AGREEMENT START DATE: | F3: =+' FORM 3 PERSONNEL FY28'!E3 -> 46661
C4: AGREEMENT END DATE: | F4: =+' FORM 3 PERSONNEL FY28'!E4 -> 46660
C5: DHHS AGREEMENT#: | F5: ='FORM 1 REVENUE SUMMARY'!D5 -> COM-27-0826
A6: INDIRECT ALLOCATION (G&A) SUMMARY
B7: Non-profit organizations with one major function where all costs are charged to one fund/agreement typically do not have indirect costs. All costs, be they administrative or program, are charged to one agreement. Non-profit organizations with one major function that also have fundraising expenses must segregate general and administrative costs (indirect) to both program and fundraising expenses and must establish an indirect cost pool. The simplified allocation method is recommended for these agencies (See OMB A-122, Attachment A, D. 2. Simplified allocation method).
F8: Yes | H8: No
A10: 1 | B10: Does your agency have indirect costs? | F10: X
B12: If NO, disregard the remainder of this Form and Forms 4A & 4B. If YES, proceed below:
A14: 2 | B14: Does your agency have an approved indirect cost rate? | F14: {=+IF(Budget!E14:F14="Yes","X","")} | H14: {=+IF(Budget!E14:F14="no","X","")}
B16: If NO, proceed below. If YES, enter rate here. INCLUDE RATE LETTER | F16: =+Budget!H14 -> 0
A18: 3 | B18: In general, there are three methods of allocating indirect costs: The simplified allocation method, the multiple allocation method, or the direct allocation method.
B19: (See OMB A-122, Attachment A, D. Allocation of Indirect Costs and Determination of Indirect Cost Rates for guidance).
B21: What method of allocation does your agency use to spread its indirect costs?
B23: a. | C23: Simplified Allocation Method | F23: =IF(H14="X","X","") | I23: (Circular A-122, D, 2)
B24: b. | C24: Multiple Allocation Method | I24: (Circular A-122, D, 3)
B25: c. | C25: Direct Allocation Method | I25: (Circular A-122, D, 4)
B26: d. | C26: Other
A28: 4 | B28: Indicate your agency's distribution base and provide the amount:
F29: √ | I29: Distribution Base
B30: a. | C30: Total Salaries
B31: b. | C31: Modified Total Direct Costs | F31: =IF(H14="X","X","X") -> X | I31: =+IF(F31="X",'FORM 2 EXPENSE SUMMARY'!E14+'FORM 2 EXPENSE SUMMARY'!E41,"") -> 0
B32: c. | C32: Other
A34: 5 | B34: Total Agency-Wide Indirect Costs - Budget Form 4A, Line 26
A36: 6 | B36: Agency Indirect Cost Rate (Line 5 divided by Line 4) | F36: 0.15 | I36: =+IF(H14="X","De minimis Rate",0) -> 0
B38: Multiply the Indirect Cost Rate in Box 6, which links to Budget Form 2, Line 38, by the allocation base on Budget Form 2, Line 37 to calculate the Indirect Allocated G& A on Budget Form 2, Line 33.

Sheet FORM 2A IN-KIND
B1: Maine Department of Health and Human Services | C1: AGENCY NAME: | D1: ='FORM 1 REVENUE SUMMARY'!D1 -> Sub recipient -
C2: PROGRAM NAME: | D2: ='FORM 1 REVENUE SUMMARY'!D2 -> Rural Health Transformation Program - Population Health
C3: AGREEMENT START DATE: | D3: ='FORM 1 REVENUE SUMMARY'!D3 -> 46296
C4: AGREEMENT END DATE: | D4: ='FORM 1 REVENUE SUMMARY'!D4 -> 46660
C5: DHHS AGREEMENT#: | D5: ='FORM 1 REVENUE SUMMARY'!D5 -> COM-27-0826
B6: THIRD PARTY IN-KIND RESOURCE DONATION
B7: $ | C7: Of In-Kind (describe):
B9: Explanation (how was value determined):
B10: Shall be used as matching funds for (check applicable): | D10: [ ] SSBG/SPSS/CCSF | F10: [ ] VOCA
B11: [ ] FVPG | C11: [ ] Other (specify)
B13: $ | C13: Of In-Kind (describe):
B14: Shall be furnished by:
B15: Explanation (how was value determined):
B16: Shall be used as matching funds for (check applicable): | D16: [ ] SSBG/SPSS/CCSF | F16: [ ] VOCA
B17: [ ] FVPG | C17: [ ] Other (specify)
B19: $ | C19: Of In-Kind (describe):
B20: Shall be furnished by:
B21: Explanation (how was value determined):
B22: Shall be used as matching funds for (check applicable): | D22: [ ] SSBG/SPSS/CCSF | F22: [ ] VOCA
B23: [ ] FVPG | C23: [ ] Other (specify)

Sheet FORM 4B INDIRECT PERSONNEL EXP
A1: Maine Department of Health and Human Services | C1: AGENCY NAME: | D1: ='FORM 1 REVENUE SUMMARY'!D1 -> Sub recipient -
C2: PROGRAM NAME: | D2: ='FORM 1 REVENUE SUMMARY'!D2 -> Rural Health Transformation Program - Population Health
C3: AGREEMENT START DATE: | D3: ='FORM 1 REVENUE SUMMARY'!D3 -> 46296
C4: AGREEMENT END DATE: | D4: ='FORM 1 REVENUE SUMMARY'!D4 -> 46660
C5: DHHS AGREEMENT#: | D5: ='FORM 1 REVENUE SUMMARY'!D5 -> COM-27-0826
A6: AGENCY WIDE INDIRECT PERSONNEL EXPENSE SUMMARY
A7: LINE | B7: COLUMN 1 | C7: COLUMN 2 | D7: MULTIPLE ALLOCATION METHOD/DIRECT ALLOCATION
B8: POSITION/TITLE | C8: TOTAL INDIRECT SALARIES | D8: COST POOL | E8: COST POOL | F8: COST POOL | G8: COST POOL | H8: COST POOL
A9: 1 | D9: ='FORM 4A INDIRECT EXPENSE '!D9 -> ADMIN | E9: ='FORM 4A INDIRECT EXPENSE '!E9 -> FACILITIES | F9: ='FORM 4A INDIRECT EXPENSE '!F9 -> NAME? | G9: ='FORM 4A INDIRECT EXPENSE '!G9 -> NAME? | H9: ='FORM 4A INDIRECT EXPENSE '!H9 -> NAME?
A10: 2 | C10: =SUM(D10:H10) -> 0
A11: 3 | C11: =SUM(D11:H11) -> 0
A12: 4 | C12: =SUM(D12:H12) -> 0
A13: 5 | C13: =SUM(D13:H13) -> 0
A14: 6 | C14: =SUM(D14:H14) -> 0
A15: 7 | C15: =SUM(D15:H15) -> 0
A16: 8 | C16: =SUM(D16:H16) -> 0
A17: 9 | C17: =SUM(D17:H17) -> 0
A18: 10 | C18: =SUM(D18:H18) -> 0
A19: 11 | C19: =SUM(D19:H19) -> 0
A20: 12 | C20: =SUM(D20:H20) -> 0
A21: 13 | C21: =SUM(D21:H21) -> 0
... A33: 25 | C33: =SUM(D33:H33) -> 0
A34: 26 | B34: TOTAL INDIRECT PERSONNEL EXPENSES | C34: =IF((SUM(C10:C33))=(SUM(D34:H34)),SUM(D34:H34),"Rows & Columns Not Equal") -> 0 | D34: =SUM(D10:D33) -> 0 | E34: =SUM(E10:E33) -> 0 | F34: =SUM(F10:F33) -> 0 | G34: =SUM(G10:G33) -> 0 | H34: =SUM(H10:H33) -> 0

Sheet FORM 5 EXPENSE DETAILS FY27
A1: Maine Department of Health and Human Services | C1: AGENCY NAME: | D1: ='FORM 1 REVENUE SUMMARY'!D1 -> Sub recipient -
C2: PROGRAM NAME: | D2: ='FORM 1 REVENUE SUMMARY'!D2 -> Rural Health Transformation Program - Population Health
C3: AGREEMENT START DATE: | D3: =+'FORM 4 INDIRECT ALLOCATED FY27'!F3 -> 46296
C4: AGREEMENT END DATE: | D4: =+'FORM 4 INDIRECT ALLOCATED FY27'!F4 -> 46660
C5: DHHS AGREEMENT#: | D5: ='FORM 1 REVENUE SUMMARY'!D5 -> COM-27-0826
C6: PROGRAM NAME: | D6: ='FORM 1 REVENUE SUMMARY'!D9 -> RHTP- CHW YR1 7/1/2026 - 6/30/2027
A7: EXPENSE DETAILS
A8: LINE | B8: COLUMN 1 | D8: COLUMN 2 | E8: COLUMN 3
B9: NAME OF LINE ITEM | D9: AMOUNT | E9: DETAIL
D10: (from Form 2) | E10: (Use Form 5A if this space is insufficient for required information)
A11: 8 | B11: CAPITAL EQUIPMENT PURCHASES (provide your agency's capitalization policy)
A13: 9 | B13: SUB-RECIPIENT AWARDS (provide detailed list)
A15: 11 | B15: OCCUPANCY - DEPRECIATION (provide depreciation schedule)
A17: 12 | B17: OCCUPANCY - INTEREST
A19: 13 | B19: OCCUPANCY - RENT (provide name of landlord and physical address) | D19: 0
A21: 14 | B21: UTILITIES/HEAT
A23: 15 | B23: TELEPHONE
A25: 16 | B25: MAINTENANCE/MINOR REPAIRS
A27: 17 | B27: BONDING/INSURANCE
A29: 18 | B29: EQUIPMENT RENTAL/LEASE
A31: 19 | B31: MATERIALS/SUPPLIES | D31: =+Budget!H35 -> 0 | E31: =+Budget!C35 -> 0
A33: 20 | B33: DEPRECIATION - NON-OCCUPANCY (provide depreciation schedule)
A35: 21 | B35: FOOD
A37: 22 | B37: CLIENT-RELATED TRAVEL (limited to State Rate $0.56/mile eff. 11/1/25, prior rate $0.54/mile) Indicate your rate in Column 3 | D37: =+Budget!H36 -> 0 | E37: =+Budget!C36
A39: 23 | B39: OTHER TRAVEL (limited to State Rate $0.56/mile eff. 11/1/25, prior rate $0.54/mile) Indicate your rate in Column 3
A41: 25 | B41: CONSULTANTS - OTHER (provide detailed information)
A43: 26 | B43: INDEPENDENT PUBLIC ACCOUNTANTS
A45: 27 | B45: TECHNOLOGY SERVICES/SOFTWARE
A47: 29 | B47: TRAINING/EDUCATION
A49: 30 | B49: MISCELLANEOUS (provide quantified breakdown for items within Miscellaneous; use Form 5A for additional details)

Sheet FORM 5 EXPENSE DETAILS FY28
A1: Maine Department of Health and Human Services | C1: AGENCY NAME: | D1: ='FORM 1 REVENUE SUMMARY'!D1 -> Sub recipient -
C2: PROGRAM NAME: | D2: ='FORM 1 REVENUE SUMMARY'!D2 -> Rural Health Transformation Program - Population Health
C3: AGREEMENT START DATE: | D3: =+'FORM 4 INDIRECT ALLOCATED FY28'!F3 -> 46661
C4: AGREEMENT END DATE: | D4: =+'FORM 4 INDIRECT ALLOCATED FY28'!F4 -> 46660
C5: DHHS AGREEMENT#: | D5: ='FORM 1 REVENUE SUMMARY'!D5 -> COM-27-0826
C6: PROGRAM NAME: | D6: ='FORM 1 REVENUE SUMMARY'!E9 -> RHTP- CHW YR2 7/1/2027 - 9/30/2027
A7: EXPENSE DETAILS
A8: LINE | B8: COLUMN 1 | D8: COLUMN 2 | E8: COLUMN 3
B9: NAME OF LINE ITEM | D9: AMOUNT | E9: DETAIL
D10: (from Form 2) | E10: (Use Form 5A if this space is insufficient for required information)
A11: 8 | B11: CAPITAL EQUIPMENT PURCHASES (provide your agency's capitalization policy)
A13: 9 | B13: SUB-RECIPIENT AWARDS (provide detailed list)
A15: 11 | B15: OCCUPANCY - DEPRECIATION (provide depreciation schedule)
A17: 12 | B17: OCCUPANCY - INTEREST
A19: 13 | B19: OCCUPANCY - RENT (provide name of landlord and physical address)
A21: 14 | B21: UTILITIES/HEAT
A23: 15 | B23: TELEPHONE
A25: 16 | B25: MAINTENANCE/MINOR REPAIRS
A27: 17 | B27: BONDING/INSURANCE
A29: 18 | B29: EQUIPMENT RENTAL/LEASE
A31: 19 | B31: MATERIALS/SUPPLIES | D31: ='FORM 5A FY28'!D18 -> 0
A33: 20 | B33: DEPRECIATION - NON-OCCUPANCY (provide depreciation schedule)
A35: 21 | B35: FOOD
A37: 22 | B37: CLIENT-RELATED TRAVEL (limited to State Rate $0.56/mile eff. 11/1/25, prior rate $0.54/mile) Indicate your rate in Column 3
A39: 23 | B39: OTHER TRAVEL (limited to State Rate $0.56/mile eff. 11/1/25, prior rate $0.54/mile) Indicate your rate in Column 3
A41: 25 | B41: CONSULTANTS - OTHER (provide detailed information)
A43: 26 | B43: INDEPENDENT PUBLIC ACCOUNTANTS
A45: 27 | B45: TECHNOLOGY SERVICES/SOFTWARE
A47: 29 | B47: TRAINING/EDUCATION
A49: 30 | B49: MISCELLANEOUS (provide quantified breakdown for items within Miscellaneous; use Form 5A for additional details)

Sheet FORM 5A FY27
A1: Maine Department of Health and Human Services | C1: AGENCY NAME: | D1: ='FORM 1 REVENUE SUMMARY'!D1 -> Sub recipient -
C2: PROGRAM NAME: | D2: =+'FORM 1 REVENUE SUMMARY'!D9 -> RHTP- CHW YR1 7/1/2026 - 6/30/2027
C3: AGREEMENT START DATE: | D3: =+'FORM 5 EXPENSE DETAILS FY27'!D3 -> 46296
C4: AGREEMENT END DATE: | D4: =+'FORM 5 EXPENSE DETAILS FY27'!D4 -> 46660
C5: DHHS AGREEMENT#: | D5: ='FORM 1 REVENUE SUMMARY'!D5 -> COM-27-0826
A6: EXPENSE DETAILS - Additional Support for Budget Form 5
A7: LINE | B7: COLUMN 1 | D7: COLUMN 2 | E7: COLUMN 3
B8: NAME OF LINE ITEM | D8: AMOUNT | E8: DETAIL
A16: 19 | B16: Total Materials and Supplies | D16: =SUM(D10:D15) -> 0

Sheet FORM 5A FY28
A1: Maine Department of Health and Human Services | C1: AGENCY NAME: | D1: ='FORM 1 REVENUE SUMMARY'!D1 -> Sub recipient -
C2: PROGRAM NAME: | D2: ='FORM 1 REVENUE SUMMARY'!D2 -> Rural Health Transformation Program - Population Health
C3: AGREEMENT START DATE: | D3: =+'FORM 5 EXPENSE DETAILS FY28'!D3 -> 46661
C4: AGREEMENT END DATE: | D4: =+'FORM 5 EXPENSE DETAILS FY28'!D4 -> 46660
C5: DHHS AGREEMENT#: | D5: ='FORM 1 REVENUE SUMMARY'!D5 -> COM-27-0826
A6: EXPENSE DETAILS - Additional Support for Budget Form 5
A7: LINE | B7: COLUMN 1 | D7: COLUMN 2 | E7: COLUMN 3
B8: NAME OF LINE ITEM | D8: AMOUNT | E8: DETAIL
A18: 19 | B18: Total Materials and Supplies | D18: =SUM(D10:D17) -> 0

Sheet CS RIDER F-1 ASF FY27
A1: Maine Department of Health and Human Services
C2: RIDER F-1
C3: PRO FORMA
C4: (see instructions and MAAP IV)
A5: COST SETTLED PRO FORMA
A7: AGENCY NAME: | C7: ='FORM 1 REVENUE SUMMARY'!D1 -> Sub recipient -
A8: FISCAL YEAR END: | C8: =+Budget!C15 -> 0
A9: FUNDING DEPARTMENT: | C9: DHHS
A10: DHHS AGREEMENT#: | C10: ='FORM 1 REVENUE SUMMARY'!D5 -> COM-27-0826
A11: COMPONENT START DATE: | C11: ='FORM 1 REVENUE SUMMARY'!D3 -> 46296
A12: COMPONENT END DATE: | C12: 46660
A13: DHHS AGREEMENT AMOUNT IN COMPONENT: | C13: =+'FORM 2 EXPENSE SUMMARY'!D46-'FORM 1 REVENUE SUMMARY'!D25 -> 0
A14: PROGRAM NAME: | C14: =+'FORM 1 REVENUE SUMMARY'!D2 -> Rural Health Transformation Program - Population Health
B16: PART I: AGREEMENT TOTALS
E17: REVENUE | F17: EXPENSE | G17: BALANCE
A18: 1 | B18: PER AGREEMENT BUDGET | E18: =C13 -> 0 | F18: =E18 -> 0 | G18: =SUM(E18-F18) -> 0
B20: AGREEMENT ADJUSTMENTS
A21: 2 | G21: =SUM(E21-F21) -> 0
A22: 3 | G22: =SUM(E22-F22) -> 0
A23: 4 | G23: =SUM(E23-F23) -> 0
A24: 5 | G24: =SUM(E24-F24) -> 0
A25: 6 | G25: =SUM(E25-F25) -> 0
A26: 7 | G26: =SUM(E26-F26) -> 0
A27: 8 | G27: =SUM(E27-F27) -> 0
A28: 9 | B28: TOTAL ADJUSTMENTS | E28: =SUM(E21:E27) -> 0 | F28: =SUM(F21:F27) -> 0 | G28: =SUM(G21:G27) -> 0
A29: 10 | B29: TOTALS AVAILABLE FOR COST SHARING | E29: =SUM(E18-E28) -> 0 | F29: =SUM(F18-F28) -> 0 | G29: =SUM(G18-G28) -> 0
B31: PART II: AGREEMENT COST SHARING
D32: PERCENTAGE | E32: REVENUE | F32: EXPENSE | G32: BALANCE
A33: 11 | B33: AGREEMENT # (STATE FUNDS) | D33: =SUM(E33/$E$37) -> #DIV/0! | G33: =SUM(E33-F33) -> 0
A34: 12 | B34: AGREEMENT # (FEDERAL FUNDS) | D34: =SUM(E34/$E$37) -> #DIV/0! | E34: =E18 -> 0 | F34: =F18 -> 0 | G34: =SUM(E34-F34) -> 0
A35: 13 | B35: ALL OTHER - UNRESTRICTED | D35: =SUM(E35/$E$37) -> #DIV/0! | E35: =+'FORM 1 REVENUE SUMMARY'!D25 -> 0 | F35: =+E35 -> 0 | G35: =SUM(E35-F35) -> 0
A36: 14 | B36: ALL OTHER - RESTRICTED (PROGRAM) | D36: =SUM(E36/$E$37) -> #DIV/0! | G36: =SUM(E36-F36) -> 0
A37: 15 | B37: TOTALS | D37: =SUM(E37/$E$37) -> #DIV/0! | E37: =SUM(E33:E36) -> 0 | F37: =SUM(F33:F36) -> 0 | G37: =SUM(G33:G36) -> 0
B39: NOTES TO ADJUSTMENTS

Sheet CS RIDER F-1 ASF FY28
A1: Maine Department of Health and Human Services
C2: RIDER F-1
C3: PRO FORMA
C4: (see instructions and MAAP IV)
A5: COST SETTLED PRO FORMA
A7: AGENCY NAME: | C7: ='FORM 1 REVENUE SUMMARY'!D1 -> Sub recipient -
A8: FISCAL YEAR END: | C8: =+Budget!C15 -> 0
A9: FUNDING DEPARTMENT: | C9: DHHS
A10: DHHS AGREEMENT#: | C10: ='FORM 1 REVENUE SUMMARY'!D5 -> COM-27-0826
A11: COMPONENT START DATE: | C11: 46661
A12: COMPONENT END DATE: | C12: ='FORM 1 REVENUE SUMMARY'!D4 -> 46660
A13: DHHS AGREEMENT AMOUNT IN COMPONENT: | C13: =+'FORM 2 EXPENSE SUMMARY'!E46-'FORM 1 REVENUE SUMMARY'!E25 -> 0
A14: PROGRAM NAME: | C14: =+'CS RIDER F-1 ASF FY27'!C14 -> Rural Health Transformation Program - Population Health
B16: PART I: AGREEMENT TOTALS
E17: REVENUE | F17: EXPENSE | G17: BALANCE
A18: 1 | B18: PER AGREEMENT BUDGET | E18: =C13 -> 0 | F18: =E18 -> 0 | G18: =SUM(E18-F18) -> 0
B20: AGREEMENT ADJUSTMENTS
A21: 2 | G21: =SUM(E21-F21) -> 0
A22: 3 | G22: =SUM(E22-F22) -> 0
A23: 4 | G23: =SUM(E23-F23) -> 0
A24: 5 | G24: =SUM(E24-F24) -> 0
A25: 6 | G25: =SUM(E25-F25) -> 0
A26: 7 | G26: =SUM(E26-F26) -> 0
A27: 8 | G27: =SUM(E27-F27) -> 0
A28: 9 | B28: TOTAL ADJUSTMENTS | E28: =SUM(E21:E27) -> 0 | F28: =SUM(F21:F27) -> 0 | G28: =SUM(G21:G27) -> 0
A29: 10 | B29: TOTALS AVAILABLE FOR COST SHARING | E29: =SUM(E18-E28) -> 0 | F29: =SUM(F18-F28) -> 0 | G29: =SUM(G18-G28) -> 0
B31: PART II: AGREEMENT COST SHARING
D32: PERCENTAGE | E32: REVENUE | F32: EXPENSE | G32: BALANCE
A33: 11 | B33: AGREEMENT # (STATE FUNDS) | D33: =SUM(E33/$E$37) -> #DIV/0! | G33: =SUM(E33-F33) -> 0
A34: 12 | B34: AGREEMENT # (FEDERAL FUNDS) | D34: =SUM(E34/$E$37) -> #DIV/0! | E34: =E18 -> 0 | F34: =F18 -> 0 | G34: =SUM(E34-F34) -> 0
A35: 13 | B35: ALL OTHER - UNRESTRICTED | D35: =SUM(E35/$E$37) -> #DIV/0! | E35: =+'FORM 1 REVENUE SUMMARY'!E25 -> 0 | F35: =+E35 -> 0 | G35: =SUM(E35-F35) -> 0
A36: 14 | B36: ALL OTHER - RESTRICTED (PROGRAM) | D36: =SUM(E36/$E$37) -> #DIV/0! | G36: =SUM(E36-F36) -> 0
A37: 15 | B37: TOTALS | D37: =SUM(E37/$E$37) -> #DIV/0! | E37: =SUM(E33:E36) -> 0 | F37: =SUM(F33:F36) -> 0 | G37: =SUM(G33:G36) -> 0
B39: NOTES TO ADJUSTMENTS

Sheet RIDER F-2 AGREEMENT COMPLIANCE
A1: Maine Department of Health and Human Services
I2: RIDER F-2
I3: AGREEMENT COMPLIANCE FORM
A5: AGREEMENT COMPLIANCE FORM
A7: AGENCY NAME: | I7: ='FORM 1 REVENUE SUMMARY'!D1 -> Sub recipient -
A8: PROGRAM NAME: | I8: ='FORM 1 REVENUE SUMMARY'!D2 -> Rural Health Transformation Program - Population Health
A9: AGREEMENT START DATE: | I9: ='FORM 1 REVENUE SUMMARY'!D3 -> 46296
A10: AGREEMENT END DATE: | I10: ='FORM 1 REVENUE SUMMARY'!D4 -> 46660
A11: DHHS AGREEMENT#: | I11: ='FORM 1 REVENUE SUMMARY'!D5 -> COM-27-0826
B13: This section identifies compliance requirements that must be considered in audits of agreements between the Department and a Community Agency. Below is a summary of required compliance tests as well as sections within the agreement award relevant to such testing. Failure to comply with any of these areas could lead to material deficiencies.
B15: x | D15: Review the Federal compliance requirements specific to the following CFDA identifiers:
H17: CFDA # | I17: 93.798 | K17: CFDA #
H18: CFDA # | K18: CFDA #
D20: and review all the State compliance requirements listed below that apply to Federal Funds.
B22: x | D22: Review the State compliance requirements in applicable areas specified below:
D24: x | F24: 1 | G24: INTERNAL CONTROL
D26: x | F26: 2 | G26: STANDARD ADMINISTRATIVE PRACTICES
G28: a. | H28: 2 CFR 200 Subpart D
G30: b. | H30: Department Additions
H31: Program Budget
D33: x | F33: 3 | G33: ACTIVITIES ALLOWED OR UNALLOWED | L33: Rider A
D35: x | F35: 4 | G35: ALLOWABLE COSTS/COST PRINCIPLES
G37: x | H37: 2 CFR 200 Subpart E
D40: x | F40: 5 | G40: CASH MANAGEMENT
D42: x | F42: 6 | G42: ELIGIBILITY | L42: Rider A
F44: 7 | G44: EQUIPMENT AND REAL PROPERTY MANAGEMENT
F46: 8 | G46: MATCHING, LEVEL OF EFFORT, EARMARKING
D48: x | F48: 9 | G48: PERIOD OF PERFORMANCE OF FUNDS
D50: x | F50: 10 | G50: PROCUREMENT AND SUSPENSION AND DEBARMENT
D52: x | F52: 11 | G52: PROGRAM INCOME
D54: x | F54: 12 | G54: REPORTING | L54: Rider A
F56: 13 | G56: SUB-RECIPIENT MONITORING
F58: 14 | G58: SPECIAL TESTS AND PROVISIONS
D60: x | F60: 15 | G60: AGREEMENT SETTLEMENT METHOD
G61: (Check all that are applicable)
G63: x | H63: COST SETTLED | L63: FEE FOR SERVICE
D66: x | G66: Full form review by DCM Staff
